BEGIN:VCALENDAR
VERSION:2.0
PRODID:-// - ECPv5.10.1//NONSGML v1.0//EN
CALSCALE:GREGORIAN
METHOD:PUBLISH
X-ORIGINAL-URL:https://www.happinessbangsaotong.com
X-WR-CALDESC:Events for 
BEGIN:VTIMEZONE
TZID:Asia/Bangkok
BEGIN:STANDARD
TZOFFSETFROM:+0700
TZOFFSETTO:+0700
TZNAME:+07
DTSTART:20210101T000000
END:STANDARD
END:VTIMEZONE
BEGIN:VEVENT
DTSTART;TZID=Asia/Bangkok:20220101T080000
DTEND;TZID=Asia/Bangkok:20220131T170000
DTSTAMP:20260421T081054
CREATED:20220110T013748Z
LAST-MODIFIED:20220110T013801Z
UID:1793-1641024000-1643648400@www.happinessbangsaotong.com
SUMMARY:งานบุญประจำปีนมัสการและปิดทอง หลวงพ่อขาว
DESCRIPTION:งานบุญประจำปีนมัสการและปิดทอง \nหลวงพ่อขาว \nสถานที่: วัดเสาธงกลาง
URL:https://www.happinessbangsaotong.com/index.php/event/%e0%b8%87%e0%b8%b2%e0%b8%99%e0%b8%9a%e0%b8%b8%e0%b8%8d%e0%b8%9b%e0%b8%a3%e0%b8%b0%e0%b8%88%e0%b8%b3%e0%b8%9b%e0%b8%b5%e0%b8%99%e0%b8%a1%e0%b8%b1%e0%b8%aa%e0%b8%81%e0%b8%b2%e0%b8%a3%e0%b9%81%e0%b8%a5/
END:VEVENT
BEGIN:VEVENT
DTSTART;VALUE=DATE:20220101
DTEND;VALUE=DATE:20220201
DTSTAMP:20260421T081054
CREATED:20211115T041124Z
LAST-MODIFIED:20220110T013901Z
UID:1176-1640995200-1643673599@www.happinessbangsaotong.com
SUMMARY:งานบุญประจาปีนมัสการและปิดทอง หลวงพ่อเสือ
DESCRIPTION:
URL:https://www.happinessbangsaotong.com/index.php/event/%e0%b8%87%e0%b8%b2%e0%b8%99%e0%b8%9a%e0%b8%b8%e0%b8%8d%e0%b8%9b%e0%b8%a3%e0%b8%b0%e0%b8%88%e0%b8%b2%e0%b8%9b%e0%b8%b5%e0%b8%99%e0%b8%a1%e0%b8%b1%e0%b8%aa%e0%b8%81%e0%b8%b2%e0%b8%a3%e0%b9%81%e0%b8%a5/
END:VEVENT
BEGIN:VEVENT
DTSTART;VALUE=DATE:20211231
DTEND;VALUE=DATE:20220101
DTSTAMP:20260421T081054
CREATED:20211115T043623Z
LAST-MODIFIED:20211115T043623Z
UID:1193-1640908800-1640995199@www.happinessbangsaotong.com
SUMMARY:สวดมนต์ข้ามปี
DESCRIPTION:ช่วงเวลา  31 ธันวาคม \nสถานที่ วัดทุกแห่งในอำเภอบำงเสำธง\nวัดปากคลองมอญ\nวัดศรีวารีน้อย\nวัดบัวโรย\nวัดเสาธงกลาง\nวัดศิริเสาธง\nวัดหัวคู้\nวัดจรเข้ใหญ่ \nวัดสุวรรณภูมิพุทธชยันตี\nวัดมงคลนิมิตร\nวัดเสาธงนอก
URL:https://www.happinessbangsaotong.com/index.php/event/event-28/
END:VEVENT
BEGIN:VEVENT
DTSTART;TZID=Asia/Bangkok:20211119T180000
DTEND;TZID=Asia/Bangkok:20211119T235900
DTSTAMP:20260421T081054
CREATED:20211115T043154Z
LAST-MODIFIED:20211115T044255Z
UID:1189-1637344800-1637366340@www.happinessbangsaotong.com
SUMMARY:ลอยกระทง
DESCRIPTION:วันขึ้น 15 ค่าเดือน 12 \nวัดปากคลองมอญ\nวัดศรีวารีน้อย\nวัดบัวโรย\nวัดเสาธงกลาง\nวัดหัวคู้\nวัดจรเข้ใหญ่\nวัดมงคลนิมิตร\nวัดเสาธงนอก
URL:https://www.happinessbangsaotong.com/index.php/event/event-22/
ATTACH;FMTTYPE=image/jpeg:https://www.happinessbangsaotong.com/wp-content/uploads/2021/11/254530157_437045274504324_2844376232770238150_n.jpg
END:VEVENT
BEGIN:VEVENT
DTSTART;VALUE=DATE:20211104
DTEND;VALUE=DATE:20211105
DTSTAMP:20260421T081054
CREATED:20211115T042251Z
LAST-MODIFIED:20211115T042314Z
UID:1182-1635984000-1636070399@www.happinessbangsaotong.com
SUMMARY:เทศน์มหาชาติ
DESCRIPTION:วันขึ้น 15 ค่าเดือน 11
URL:https://www.happinessbangsaotong.com/index.php/event/event-18/
END:VEVENT
BEGIN:VEVENT
DTSTART;VALUE=DATE:20211023
DTEND;VALUE=DATE:20211024
DTSTAMP:20260421T081054
CREATED:20211115T042055Z
LAST-MODIFIED:20211115T042055Z
UID:1179-1634947200-1635033599@www.happinessbangsaotong.com
SUMMARY:ตักบาตรพระร้อย
DESCRIPTION:วันแรม 2 ค่า เดือน 11  วัดหัวคู้
URL:https://www.happinessbangsaotong.com/index.php/event/%e0%b8%95%e0%b8%b1%e0%b8%81%e0%b8%9a%e0%b8%b2%e0%b8%95%e0%b8%a3%e0%b8%9e%e0%b8%a3%e0%b8%b0%e0%b8%a3%e0%b9%89%e0%b8%ad%e0%b8%a2/
END:VEVENT
BEGIN:VEVENT
DTSTART;VALUE=DATE:20211001
DTEND;VALUE=DATE:20220101
DTSTAMP:20260421T081054
CREATED:20211115T043410Z
LAST-MODIFIED:20211115T043428Z
UID:1191-1633046400-1640995199@www.happinessbangsaotong.com
SUMMARY:ประเพณีแข่งเรือพายประเภทเรือมาด
DESCRIPTION:ช่วงเวลา เดือนตุลาคม-ธันวาคม \nณ. มัสยิดสุเหร่าบ้านไร่
URL:https://www.happinessbangsaotong.com/index.php/event/event-27/
END:VEVENT
BEGIN:VEVENT
DTSTART;VALUE=DATE:20211001
DTEND;VALUE=DATE:20211120
DTSTAMP:20260421T081054
CREATED:20211115T042339Z
LAST-MODIFIED:20211115T042742Z
UID:1184-1633046400-1637366399@www.happinessbangsaotong.com
SUMMARY:ทอดกฐินสามัคคี
DESCRIPTION:เดือนตุลาคม-เดือนพฤศจิกายน\nวันแรม 1 เดือน 11 –วันขึ้น 15 ค่าเดือน 12 \nวัดทุกแห่งในอำเภอบำงเสำธง\nวัดปากคลองมอญ\nวัดศรีวารีน้อย\nวัดบัวโรย\nวัดเสาธงกลาง\nวัดศิริเสาธง\nวัดหัวคู้\nวัดจรเข้ใหญ่\nวัดสุวรรณภูมิพุทธชยันตี\nวัดมงคลนิมิตร\nวัดเสาธงนอก
URL:https://www.happinessbangsaotong.com/index.php/event/ssssss/
ATTACH;FMTTYPE=image/jpeg:https://www.happinessbangsaotong.com/wp-content/uploads/2021/11/256811807_2624033181073708_2504808314901552093_n.jpg
END:VEVENT
BEGIN:VEVENT
DTSTART;VALUE=DATE:20210221
DTEND;VALUE=DATE:20210301
DTSTAMP:20260421T081054
CREATED:20211115T033521Z
LAST-MODIFIED:20211115T041003Z
UID:1164-1613865600-1614556799@www.happinessbangsaotong.com
SUMMARY:งานบุญประจาปี นมัสการและปิดทอง รอยพระพุทธบาท /หลวงพ่อโต
DESCRIPTION:ปลายเดือนมกราคม-ต้นเดือนกุมภาพันธ์วันขึ้น 15 ค่าเดือน 3วันมาฆบูชา
URL:https://www.happinessbangsaotong.com/index.php/event/n-event001/
LOCATION:วัดจรเข้ใหญ่\, วัดจรเข้ใหญ่\, สมุทรปราการ\, Thailand
ATTACH;FMTTYPE=image/jpeg:https://www.happinessbangsaotong.com/wp-content/uploads/2021/11/maxresdefault.jpg
END:VEVENT
END:VCALENDAR